BEGIN:VCALENDAR
VERSION:2.0
PRODID:-//85.13.134.128//NONSGML kigkonsult.se iCalcreator 2.20//
CALSCALE:GREGORIAN
METHOD:PUBLISH
X-WR-TIMEZONE:Europe/Berlin
BEGIN:VEVENT
UID:event282@29690-buchholz.de
DTSTAMP:20260420T130409Z
CATEGORIES:Veranstaltungen in Buchholz und Marklendorf
DESCRIPTION:Zeltfete\nKategorie: Veranstaltungen in Buchholz und Marklendor
 f\nICS-Link: https://www.29690-buchholz.de/index.php?option=com_jem&view=e
 vent&id=282:zeltfete\n
DTSTART;TZID=Europe/Berlin:20260529T200000
DTEND;TZID=Europe/Berlin:20260529T200000
LOCATION:Buchholz\,29690 Buchholz
SUMMARY:Zeltfete
URL:https://www.29690-buchholz.de/index.php?option=com_jem&view=event&id=28
 2:zeltfete
END:VEVENT
END:VCALENDAR