BEGIN:VCALENDAR
VERSION:2.0
PRODID:-//85.13.134.128//NONSGML kigkonsult.se iCalcreator 2.20//
CALSCALE:GREGORIAN
METHOD:PUBLISH
X-WR-TIMEZONE:Europe/Berlin
BEGIN:VEVENT
UID:event284@29690-buchholz.de
DTSTAMP:20260420T130230Z
CATEGORIES:Veranstaltungen in Buchholz und Marklendorf
DESCRIPTION:Tag des Laufens\nKategorie: Veranstaltungen in Buchholz und Mar
 klendorf\nICS-Link: https://www.29690-buchholz.de/index.php?option=com_jem
 &view=event&id=284:tag-des-laufens\n
DTSTART;TZID=Europe/Berlin:20260603T183000
DTEND;TZID=Europe/Berlin:20260603T183000
LOCATION:SVN Buchholz\,Marklendorfer Mühlenweg \,29690 Buchholz
SUMMARY:Tag des Laufens
URL:https://www.29690-buchholz.de/index.php?option=com_jem&view=event&id=28
 4:tag-des-laufens
END:VEVENT
END:VCALENDAR