BEGIN:VCALENDAR
VERSION:2.0
PRODID:-//85.13.134.128//NONSGML kigkonsult.se iCalcreator 2.20//
CALSCALE:GREGORIAN
METHOD:PUBLISH
X-WR-TIMEZONE:Europe/Berlin
BEGIN:VEVENT
UID:event286@29690-buchholz.de
DTSTAMP:20260420T125942Z
CATEGORIES:Veranstaltungen in Buchholz und Marklendorf
DESCRIPTION:Blutspenden\nKategorie: Veranstaltungen in Buchholz und Marklen
 dorf\nICS-Link: https://www.29690-buchholz.de/index.php?option=com_jem&vie
 w=event&id=286:blutspenden\n
DTSTART;TZID=Europe/Berlin:20260724T160000
DTEND;TZID=Europe/Berlin:20260724T200000
LOCATION:Dorfgemeinschaftshaus Buchholz\,Buchholzer Kirchweg 1\,29690 Buchh
 olz
SUMMARY:Blutspenden
URL:https://www.29690-buchholz.de/index.php?option=com_jem&view=event&id=28
 6:blutspenden
END:VEVENT
END:VCALENDAR