BEGIN:VCALENDAR
VERSION:2.0
PRODID:-//85.13.134.128//NONSGML kigkonsult.se iCalcreator 2.20//
CALSCALE:GREGORIAN
METHOD:PUBLISH
X-WR-TIMEZONE:Europe/Berlin
BEGIN:VEVENT
UID:event290@29690-buchholz.de
DTSTAMP:20260424T103004Z
CATEGORIES:Veranstaltungen in Buchholz und Marklendorf
DESCRIPTION:Suppensonntag\nKategorie: Veranstaltungen in Buchholz und Markl
 endorf\nICS-Link: https://www.29690-buchholz.de/index.php?option=com_jem&v
 iew=event&id=290:suppensonntag\n
DTSTART;TZID=Europe/Berlin:20260920T120000
DTEND;TZID=Europe/Berlin:20260920T160000
LOCATION:Waldkindergarten
SUMMARY:Suppensonntag
URL:https://www.29690-buchholz.de/index.php?option=com_jem&view=event&id=29
 0:suppensonntag
END:VEVENT
END:VCALENDAR