BEGIN:VCALENDAR
VERSION:2.0
PRODID:-//85.13.134.128//NONSGML kigkonsult.se iCalcreator 2.20//
CALSCALE:GREGORIAN
METHOD:PUBLISH
X-WR-TIMEZONE:Europe/Berlin
BEGIN:VEVENT
UID:event285@29690-buchholz.de
DTSTAMP:20260419T140820Z
CATEGORIES:Veranstaltungen in Buchholz und Marklendorf
DESCRIPTION:Fußball Freizeittunier\nKategorie: Veranstaltungen in Buchholz 
 und Marklendorf\nICS-Link: https://www.29690-buchholz.de/index.php?option=
 com_jem&view=event&id=285:fußball-freizeittunier\n
DTSTART;TZID=Europe/Berlin:20260627T130000
DTEND;TZID=Europe/Berlin:20260627T130000
LOCATION:SVN Buchholz\,Marklendorfer Mühlenweg \,29690 Buchholz
SUMMARY:Fußball Freizeittunier
END:VEVENT
END:VCALENDAR